BEGIN:VCALENDAR
VERSION:2.0
PRODID:-//Boezemsingel - ECPv5.3.2.1//NONSGML v1.0//EN
CALSCALE:GREGORIAN
METHOD:PUBLISH
X-WR-CALNAME:Boezemsingel
X-ORIGINAL-URL:https://www.boezemsingel.nl
X-WR-CALDESC:Evenementen voor Boezemsingel
BEGIN:VTIMEZONE
TZID:UTC
BEGIN:STANDARD
TZOFFSETFROM:+0000
TZOFFSETTO:+0000
TZNAME:UTC
DTSTART:20160101T000000
END:STANDARD
END:VTIMEZONE
BEGIN:VEVENT
DTSTART;TZID=UTC:20160702T110000
DTEND;TZID=UTC:20160702T130000
DTSTAMP:20260422T000041
CREATED:20160628T192702Z
LAST-MODIFIED:20160628T192702Z
UID:754-1467457200-1467464400@www.boezemsingel.nl
SUMMARY:Openhuizen 2016
DESCRIPTION:Op zaterdag 2-7-2016 tussen 11.00 en 13.00 doen 7 woongebouwen van Stadswonen mee met de Openhuizen voor de eerstejaars studenten! \nBoezemsingel zal toegankelijk zijn voor eerstejaars studenten die willen zien hoe een potentiële kamer zou kunnen zijn. Medewerkers van Stadswonen zullen voor het complex (makelaars)borden + vlaggen installeren. Op deze borden wordt kenbaar gemaakt dat ons gebouw meedoet met de Openhuizen dag. \nIn principe zullen de eerstejaars studenten de gelegenheid krijgen om het pand en lege kamers te zien. Wij kunnen ons ook voorstellen dater bewoners zijn die hun unit en zo ook de echte studentenleven wil laten zien. Stuur dan snel een email naar boezemsingel@gmail.com.  \nDit delen:Klik om af te drukken (Wordt in een nieuw venster geopend)Klik om te delen op WhatsApp (Wordt in een nieuw venster geopend)Klik om te delen op Facebook (Wordt in een nieuw venster geopend)\n\n	Gerelateerd
URL:https://www.boezemsingel.nl/event/openhuizen-2016/
LOCATION:Onbenoemde locatie\, van Meekerenstraat 64 D\, Rotterdam\, Zuid-Holland\, 3034 GD\, Nederland
ATTACH;FMTTYPE=image/jpeg:https://www.boezemsingel.nl/wp-content/uploads/2015/06/DSC00073.jpg
ORGANIZER;CN="Woongebouw%20Boezemsingel":MAILTO:info@boezemsingel.nl
END:VEVENT
END:VCALENDAR