BEGIN:VCALENDAR
VERSION:2.0
PRODID:-//Boezemsingel - ECPv5.3.2.1//NONSGML v1.0//EN
CALSCALE:GREGORIAN
METHOD:PUBLISH
X-WR-CALNAME:Boezemsingel
X-ORIGINAL-URL:https://www.boezemsingel.nl
X-WR-CALDESC:Evenementen voor Boezemsingel
BEGIN:VTIMEZONE
TZID:UTC
BEGIN:STANDARD
TZOFFSETFROM:+0000
TZOFFSETTO:+0000
TZNAME:UTC
DTSTART:20170101T000000
END:STANDARD
END:VTIMEZONE
BEGIN:VEVENT
DTSTART;TZID=UTC:20171211T170000
DTEND;TZID=UTC:20171211T200000
DTSTAMP:20260421T223457
CREATED:20171127T201712Z
LAST-MODIFIED:20171127T212010Z
UID:1007034-1513011600-1513022400@www.boezemsingel.nl
SUMMARY:Hygiëne hercontrole 2017
DESCRIPTION:De hygiënecontrole is een jaarlijkse controle die er voor dient om ons pand schoon en leefbaar te houden. Tijdens deze controle komt de wooncommissie langs om de staat van de keuken (inclusief afzuigkap)\, douche en toilet te controleren. \nTijdens deze controle wordt ook de batterij van je rookmelder vervangen en geïnventariseerd hoe veel rookmelders “over datum” zijn. \nVoor meer informatie en een checklist kijk op: \nwww.boezemsingel.nl/bewonersinfo/hygiene-controle/  \nDe hygiëne controle wordt gehouden op 3\, 4 en 6 december 2017. \nDe hercontroles zal op 11-12-2017. \nDit delen:Klik om af te drukken (Wordt in een nieuw venster geopend)Klik om te delen op WhatsApp (Wordt in een nieuw venster geopend)Klik om te delen op Facebook (Wordt in een nieuw venster geopend)\n\n	Gerelateerd
URL:https://www.boezemsingel.nl/event/hygiene-hercontrole-2017/
LOCATION:Alle Kamers\, van meekerenstraat 64D\, Rotterdam\, Zuid-Holland\, 3034 GD\, Nederland
CATEGORIES:Hygiene Controle
ATTACH;FMTTYPE=image/jpeg:https://www.boezemsingel.nl/wp-content/uploads/2016/05/Cleaning-material.jpg
ORGANIZER;CN="Woongebouw%20Boezemsingel":MAILTO:info@boezemsingel.nl
END:VEVENT
END:VCALENDAR