BEGIN:VCALENDAR
VERSION:2.0
PRODID:-//Boezemsingel - ECPv5.3.2.1//NONSGML v1.0//EN
CALSCALE:GREGORIAN
METHOD:PUBLISH
X-WR-CALNAME:Boezemsingel
X-ORIGINAL-URL:https://www.boezemsingel.nl
X-WR-CALDESC:Evenementen voor Boezemsingel
BEGIN:VTIMEZONE
TZID:UTC
BEGIN:STANDARD
TZOFFSETFROM:+0000
TZOFFSETTO:+0000
TZNAME:UTC
DTSTART:20160101T000000
END:STANDARD
END:VTIMEZONE
BEGIN:VEVENT
DTSTART;VALUE=DATE:20160620
DTEND;VALUE=DATE:20160625
DTSTAMP:20260422T000159
CREATED:20160208T193829Z
LAST-MODIFIED:20160530T193352Z
UID:527-1466380800-1466812799@www.boezemsingel.nl
SUMMARY:Hygiëne Controle 2016
DESCRIPTION:Wat is een hygiënecontrole?\nEen hygiënecontrole is een jaarlijkse controle/inspectie die er voor dient om ons pand schoon en leefbaar te houden. Tijdens deze controle komt de wooncommissie langs om de staat van de keuken (inclusief afzuigkap)\, douche en toilet te controleren. \nMoet ik hier echt aan meewerken?\nJa\, volgens artikel 6.3.4 van de algemene huurvoorwaarden van Stadswonen Rotterdam is elke huurder van een gedeelde unit verplicht mee te werken aan deze controle. De wooncommissie is op haar beurt verplicht\, als vertegenwoordiger van Stadswonen Rotterdam\, deze controle uit te voeren. Indien wij een unit niet (kunnen) controleren zal Stadswonen Rotterdam een andere vertegenwoordiger sturen. \nEXTRA\nDit jaar zal alle balkons en terrassen alweer van buitenaf gecontroleerd worden op mos\, bladen en andere spullen die verstoppingen kunnen veroorzaken. De controle zal uitgevoerd worden door de (assistent)beheerder samen met een wooncommissielid.\nIk ben er niet! \nMocht je niet aanwezig zijn op de datums of tijdstip dat vastleggen\, laat het dan zsm weten\, wij kunnen dan mogelijk eerder langskomen. Je zou ook op een maandag tijdens het spreek langs kunnen komen om een nieuwe afspraak te maken. \nSchema\n\n\n\nTijd\nDag 1 \n20-06-2016\nDag 2 \n21-06-2016\nDag 3 \n22-06-2016\nDag 4 \n23-06-2016\n\n\n18:30\n52 A\n70 B\n90 D\n112 A\n\n\n18:38\n52 B\n70 C\n92 A\n112 B\n\n\n18:46\n52 C\n72\n92 B\n112 C\n\n\n18:54\n54 A\n74 A\n94 A\n112 D\n\n\n19:02\n54 B\n74 B\n94 B\n114 A\n\n\n19:10\n54 C\n74 C\n94 C\n114 B\n\n\n19:18\n56 A\n74 D\n96\n116 A\n\n\n19:26\n56 B\n76 a\n98 A\n116 B\n\n\n19:34\n56 C\n76 B\n98 B\n116 C\n\n\n19:42\n58\n78 A1\n98 C\n118\n\n\n19:50\n60 A\n78 B\n98 D\n120 A\n\n\n19:58\n60 B\n78 C\n100 A\n120 B\n\n\n20:06\n60 C\n80\n100 B\n120 C\n\n\nPauze\nPauze\nPauze\nPauze\nPauze\n\n\n20:22\n60 D\n82 A\n102 A\n120 D\n\n\n20:30\n62 A\n82 B\n102 B\n122\n\n\n20:38\n62 B\n82 C\n102 c\n124 A\n\n\n20:46\n64 A\n82 D\n104\n124 B\n\n\n20:54\n64 B\n84 A\n106 A\n124 C\n\n\n21:02\n64 C\n84 B\n106 B\n126\n\n\n21:10\n66 A\n86 A\n106 C\n128 A\n\n\n21:18\n66 B\n86 B\n106 D\n128 B\n\n\n21:26\n66 C\n86 C\n108 A\n128 C\n\n\n21:34\n66 D\n88\n108 B\n130 A\n\n\n21:42\n68 a\n90 A\n110 A\n130 B\n\n\n21:50\n68 B\n90 B\n110 B\n130 C\n\n\n21:58\n70 A\n90 C\n110 C\n130 D\n\n\n\nZie controle schema: Controle schema\nDit delen:Klik om af te drukken (Wordt in een nieuw venster geopend)Klik om te delen op WhatsApp (Wordt in een nieuw venster geopend)Klik om te delen op Facebook (Wordt in een nieuw venster geopend)\n\n	Gerelateerd
URL:https://www.boezemsingel.nl/event/hygiene-controle-2016/
LOCATION:Alle Kamers\, van meekerenstraat 64D\, Rotterdam\, Zuid-Holland\, 3034 GD\, Nederland
CATEGORIES:Hygiene Controle
ATTACH;FMTTYPE=image/jpeg:https://www.boezemsingel.nl/wp-content/uploads/2016/05/Cleaning-material.jpg
ORGANIZER;CN="Wooncommissie":MAILTO:boezemsingel@gmail.com
END:VEVENT
END:VCALENDAR