BEGIN:VCALENDAR
VERSION:2.0
PRODID:-//Boezemsingel - ECPv5.3.2.1//NONSGML v1.0//EN
CALSCALE:GREGORIAN
METHOD:PUBLISH
X-WR-CALNAME:Boezemsingel
X-ORIGINAL-URL:https://www.boezemsingel.nl
X-WR-CALDESC:Evenementen voor Boezemsingel
BEGIN:VTIMEZONE
TZID:UTC
BEGIN:STANDARD
TZOFFSETFROM:+0000
TZOFFSETTO:+0000
TZNAME:UTC
DTSTART:20160101T000000
END:STANDARD
END:VTIMEZONE
BEGIN:VEVENT
DTSTART;VALUE=DATE:20161127
DTEND;VALUE=DATE:20161128
DTSTAMP:20260421T223326
CREATED:20161017T191608Z
LAST-MODIFIED:20161114T202129Z
UID:919-1480204800-1480291199@www.boezemsingel.nl
SUMMARY:Fietsenactie
DESCRIPTION:Op zondag 27 november 2016 zal de fietsenactie plaatsvinden. Wij gaan meer ruimte creëren in de fietsenstallingen binnen en buiten het gebouw. Alle fietsen zonder sticker zullen weggehaald worden\, zelfs als ze helemaal in goede staat zijn. Stickers kunnen via de webwinkel besteld worden. \nDit jaar doen we het wat anders en wat milieubewuster. De fietsenactie houdt in dat wij een schoonmaakactie houden in alle fietsenbergingen en op de parkeerplaats. Alle oude fietsen worden weggehaald om meer ruimte te creëren voor iedereen. Wij zullen fietsen die in gebruikt zijn herkennen aan de Stadswonen sticker. Alle bewoners kunnen via de website stickers bestellen voor al hun fietsen en die van hun bezoekers. \nHeeft een fiets gedurende de dag van de fietsenactie geen sticker dan zal die fiets weggehaald. Alle weggehaalde fietsen zullen maximaal 3 maanden bewaard worden. Gedurende de drie maanden kunnen fietsen opgehaald worden tegen een betaling van €10. Zorg er dus voor dat je tijdig je sticker bestelt en uiterlijk een dag voor de fietsenactie op je fietsen plakt. \n \n  \n  \nDit delen:Klik om af te drukken (Wordt in een nieuw venster geopend)Klik om te delen op WhatsApp (Wordt in een nieuw venster geopend)Klik om te delen op Facebook (Wordt in een nieuw venster geopend)\n\n	Gerelateerd
URL:https://www.boezemsingel.nl/event/fietsenactie/
LOCATION:Parkeerterrein Boezemsingel\, Van Meekerenstraat 64D\, Rotterdam\, Zuid-Holland\, 3034GD\, Nederland
ATTACH;FMTTYPE=image/jpeg:https://www.boezemsingel.nl/wp-content/uploads/2015/09/DSC00078.jpg
ORGANIZER;CN="Wooncommissie":MAILTO:boezemsingel@gmail.com
END:VEVENT
END:VCALENDAR