BEGIN:VCALENDAR
VERSION:2.0
PRODID:-//Boezemsingel - ECPv5.3.2.1//NONSGML v1.0//EN
CALSCALE:GREGORIAN
METHOD:PUBLISH
X-WR-CALNAME:Boezemsingel
X-ORIGINAL-URL:https://www.boezemsingel.nl
X-WR-CALDESC:Evenementen voor Boezemsingel
BEGIN:VTIMEZONE
TZID:UTC
BEGIN:STANDARD
TZOFFSETFROM:+0000
TZOFFSETTO:+0000
TZNAME:UTC
DTSTART:20170101T000000
END:STANDARD
END:VTIMEZONE
BEGIN:VEVENT
DTSTART;VALUE=DATE:20171028
DTEND;VALUE=DATE:20171029
DTSTAMP:20260421T223158
CREATED:20170904T172246Z
LAST-MODIFIED:20170904T175244Z
UID:1006730-1509148800-1509235199@www.boezemsingel.nl
SUMMARY:Fietsenactie 2017
DESCRIPTION:Om de fietsenstalling op orde te houden wordt jaarlijks een fietsenactie georganiseerd. Bij deze actie worden alle ongebruikte fietsen opgeslagen en verwijderd. \nVanaf 01-10-2017 komt in de webshop een item te staan waar je gratis een sticker kunt bestellen. Deze sticker plak je op je fiets. \nFietsen zonder sticker worden op 28 oktober 2017 verwijderd. \nBen je vergeten een sticker te plakken en is je fiets verwijderd? Dan kun je je fiets terugkrijgen tegen administratiekosten. \nNiet terug geclaimde fietsen zullen aan een \ngoed doel worden gedoneerd. \nVoor meer info over de jaarlijkse fietsenactie klik hier. \nDit delen:Klik om af te drukken (Wordt in een nieuw venster geopend)Klik om te delen op WhatsApp (Wordt in een nieuw venster geopend)Klik om te delen op Facebook (Wordt in een nieuw venster geopend)\n\n	Gerelateerd
URL:https://www.boezemsingel.nl/event/fietsenactie-2017/
LOCATION:Parkeerterrein Boezemsingel\, Van Meekerenstraat 64D\, Rotterdam\, Zuid-Holland\, 3034GD\, Nederland
CATEGORIES:Fietsenactie
ATTACH;FMTTYPE=image/gif:https://www.boezemsingel.nl/wp-content/uploads/2016/11/asielz1.gif
ORGANIZER;CN="Woongebouw%20Boezemsingel":MAILTO:info@boezemsingel.nl
END:VEVENT
END:VCALENDAR