BEGIN:VCALENDAR
VERSION:2.0
PRODID:-//Boezemsingel - ECPv5.3.2.1//NONSGML v1.0//EN
CALSCALE:GREGORIAN
METHOD:PUBLISH
X-WR-CALNAME:Boezemsingel
X-ORIGINAL-URL:https://www.boezemsingel.nl
X-WR-CALDESC:Evenementen voor Boezemsingel
BEGIN:VTIMEZONE
TZID:UTC
BEGIN:STANDARD
TZOFFSETFROM:+0000
TZOFFSETTO:+0000
TZNAME:UTC
DTSTART:20180101T000000
END:STANDARD
END:VTIMEZONE
BEGIN:VEVENT
DTSTART;TZID=UTC:20181022T080000
DTEND;TZID=UTC:20181022T170000
DTSTAMP:20260421T205926
CREATED:20181022T195526Z
LAST-MODIFIED:20181022T195526Z
UID:1007409-1540195200-1540227600@www.boezemsingel.nl
SUMMARY:Fietsenactie
DESCRIPTION:Aankondiging fietsenactie!!! \nBeste Bewoner(s)\, \nOp zondag 28 oktober zal de fietsenactie plaatsvinden. Wij gaan meer ruimte creëren in de fietsenstallingen binnen en buiten het gebouw. Alle fietsen zonder sticker zullen weggehaald worden\, zelfs als ze helemaal in goede staat zijn. Stickers kunnen via de webshop besteld worden. \nDit delen:Klik om af te drukken (Wordt in een nieuw venster geopend)Klik om te delen op WhatsApp (Wordt in een nieuw venster geopend)Klik om te delen op Facebook (Wordt in een nieuw venster geopend)\n\n	Gerelateerd
URL:https://www.boezemsingel.nl/event/fietsenactie-2/
LOCATION:van Meekerenstraat 64 D\, Rotterdam\, Zuid-Holland\, 3034 GD\, Nederland
CATEGORIES:Fietsenactie
ATTACH;FMTTYPE=image/gif:https://www.boezemsingel.nl/wp-content/uploads/2016/11/asielz1.gif
ORGANIZER;CN="Woongebouw%20Boezemsingel":MAILTO:info@boezemsingel.nl
END:VEVENT
END:VCALENDAR