BEGIN:VCALENDAR
VERSION:2.0
PRODID:-//Boezemsingel - ECPv5.3.2.1//NONSGML v1.0//EN
CALSCALE:GREGORIAN
METHOD:PUBLISH
X-WR-CALNAME:Boezemsingel
X-ORIGINAL-URL:https://www.boezemsingel.nl
X-WR-CALDESC:Evenementen voor Boezemsingel
BEGIN:VTIMEZONE
TZID:UTC
BEGIN:STANDARD
TZOFFSETFROM:+0000
TZOFFSETTO:+0000
TZNAME:UTC
DTSTART:20170101T000000
END:STANDARD
END:VTIMEZONE
BEGIN:VEVENT
DTSTART;TZID=UTC:20170425T190000
DTEND;TZID=UTC:20170425T220000
DTSTAMP:20260421T223618
CREATED:20170423T104115Z
LAST-MODIFIED:20170423T104115Z
UID:1190-1493146800-1493157600@www.boezemsingel.nl
SUMMARY:Bewonersvergadering + afscheidsborrel Teun
DESCRIPTION:Graag nodigen wij jullie naar ons jaarlijkse bewonersvergadering ter goedkeuring van het jaarverslag. \nTijdens de bewonersvergadering zal de wooncommissie je inlichten over de gang van zaken over het woongebouw en alle zaken hieromheen. Je als bewoner heeft naast recht op informatie ook recht op inspraak. Je bent niet verplicht om aanwezig te zijn\, echter is jouw aanwezigheid voor de correcte besluitvorming gewenst. \nDaarnaast gaat Teun ons verlaten en willen wij hem bedanken met een borrel. Vanaf 20:30. Iedereen is Welcome. \nHierdoor hebben wij weer een vacature. Wij zijn dus opzoek naar:\n– een assistent beheerder (secretaris)\n– een penningmeester\n– twee kascommissie leden\n– technische dienstleden\nSolliciteren zal uitsluitend mogelijk zijn via de website \n  \nAgenda: \n\nOpening\nGoedkeuring voormalige agenda\nGoedkeuring voormalige notulen\nMededelingen Bestuur\nBehandeling Jaarverslag\n\nSociaal jaarverslag\nTechnische jaarverslag\nFinanciële jaarverslag\n\nToelichting kascommissie\n\n\nGoedkeuring jaarverslag\n\n\nDecharge en instellen kascommissie\nDecharge en instellen bestuur\nWVTTK\nAfsluiting\n\nDit delen:Klik om af te drukken (Wordt in een nieuw venster geopend)Klik om te delen op WhatsApp (Wordt in een nieuw venster geopend)Klik om te delen op Facebook (Wordt in een nieuw venster geopend)\n\n	Gerelateerd
URL:https://www.boezemsingel.nl/event/bewonersvergadering-afscheidsborrel-teun/
LOCATION:Recreatieruimte\, van Meekerenstraat 64D\, Rotterdam\, Zuid-Holland\, 3034 GD\, Nederland
ORGANIZER;CN="Woongebouw%20Boezemsingel":MAILTO:info@boezemsingel.nl
END:VEVENT
END:VCALENDAR