BEGIN:VCALENDAR
VERSION:2.0
PRODID:-//Boezemsingel - ECPv5.3.2.1//NONSGML v1.0//EN
CALSCALE:GREGORIAN
METHOD:PUBLISH
X-WR-CALNAME:Boezemsingel
X-ORIGINAL-URL:https://www.boezemsingel.nl
X-WR-CALDESC:Evenementen voor Boezemsingel
BEGIN:VTIMEZONE
TZID:UTC
BEGIN:STANDARD
TZOFFSETFROM:+0000
TZOFFSETTO:+0000
TZNAME:UTC
DTSTART:20200101T000000
END:STANDARD
END:VTIMEZONE
BEGIN:VEVENT
DTSTART;TZID=UTC:20200228T200000
DTEND;TZID=UTC:20200228T213000
DTSTAMP:20260421T180412
CREATED:20191217T192701Z
LAST-MODIFIED:20200228T120631Z
UID:1007844-1582920000-1582925400@www.boezemsingel.nl
SUMMARY:Algemene bewonersvergadering (ABV) FEB 2020
DESCRIPTION:Het is weer tijd voor een jaarlijkse Algemene bewonersvergadering (ABV). Tijdens de ABV zal de wooncommissie een verslag uitbrengen over de gang van zaken van het pand en het gevoerde beleid van 2017\, 2018 en 2019. \nTevens worden tijdens de vergadering de leden van de wooncommissie oftewel bestuur van de vereniging en kascommissie gedechargeerd en geïnstalleerd. \nEventuele inbreng van de bewoners kunnen we goed gebruiken. Dus mocht je geïnteresseerd zijn in de activiteiten van de wooncommissie\, kom dan gewoon even langs. Indien je als bewoner vooraf al meer dan twee punten/vragen heb dienen deze twee dagen voor de vergadering gemaild. \nHier volgt de agenda \n \n Agenda bewonersvergadering \ntijd: 20.00 uur \nlocatie: Recreatieruimte 1e verdieping \n\nOpening\nVaststellen agenda\nBespreken en vaststellen notulen vorige bewonersvergadering\nBehandelen jaarverslag 2017 ter goedkeuring en decharge\n\nintroductie voorzitter\nsociaal jaarverslag\ntechnische jaarverslag\nfinancieel jaarverslag\nbevindingen kascommissie\nstemming\n\n\nBehandelen jaarverslag 2018 ter goedkeuring en decharge\nBehandelen jaarverslag 2019 ter goedkeuring en decharge\nStemming decharge kascommissie\nStemming benoeming kascommissie voor volgend/ lopend boekjaar\nBewoners dialoog\nSluiting\n\nNa de vergadering is er een borrel met hapjes. \n  \nJaarverslag zal op 13-02-2020 gepubliceerd worden op de volgende pagina van alle jaarverslagen. Bewoners kunnen het eerder krijgen per email. \nDit delen:Klik om af te drukken (Wordt in een nieuw venster geopend)Klik om te delen op WhatsApp (Wordt in een nieuw venster geopend)Klik om te delen op Facebook (Wordt in een nieuw venster geopend)\n\n	Gerelateerd
URL:https://www.boezemsingel.nl/event/algemene-bewonersvergadering-abv-feb-2020/
LOCATION:Recreatieruimte\, van Meekerenstraat 64D\, Rotterdam\, Zuid-Holland\, 3034 GD\, Nederland
CATEGORIES:Bewonersvergadering
ATTACH;FMTTYPE=image/png:https://www.boezemsingel.nl/wp-content/uploads/2016/03/17-03-2016.png
ORGANIZER;CN="Wooncommissie":MAILTO:boezemsingel@gmail.com
END:VEVENT
END:VCALENDAR